BEGIN:VCALENDAR
VERSION:2.0
PRODID:-//wp-events-plugin.com//7.2.3.1//EN
BEGIN:VEVENT
UID:42@snezinka.com
DTSTART;VALUE=DATE:20260216
DTEND;VALUE=DATE:20260221
DTSTAMP:20260202T002249Z
URL:https://www.snezinka.com/events/zimske-pocitnice-za-otroke/
SUMMARY:Zimske počitnice za otroke
DESCRIPTION:[vc_row][vc_column][setsail_tours_list tour_type="standard" tou
 r_item="1" image_size="full" filter="no" enable_load_more="no" order_by="t
 itle" order="ASC" selected_tours="7057"][/vc_column][/vc_row]
CATEGORIES:Zima
LOCATION:Rogla\, Rogla 1\, Zreče\, 3214\, Slovenia
GEO:46.45582;15.337019
X-APPLE-STRUCTURED-LOCATION;VALUE=URI;X-ADDRESS=Rogla 1\, Zreče\, 3214\, S
 lovenia;X-APPLE-RADIUS=100;X-TITLE=Rogla:geo:46.45582,15.337019
END:VEVENT
END:VCALENDAR